BEGIN:VCALENDAR
VERSION:2.0
PRODID:-//RIGHTHERE//CALENDARIZE IT V3.2//EN
BEGIN:VTIMEZONE
TZID:America/Detroit
BEGIN:STANDARD
DTSTART:20251102T060000
TZOFFSETFROM:-0400
TZOFFSETTO:-0500
TZNAME:EST
END:STANDARD
BEGIN:DAYLIGHT
DTSTART:20260308T070000
TZOFFSETFROM:-0500
TZOFFSETTO:-0400
TZNAME:EDT
END:DAYLIGHT
BEGIN:STANDARD
DTSTART:20261101T060000
TZOFFSETFROM:-0400
TZOFFSETTO:-0500
TZNAME:EST
END:STANDARD
END:VTIMEZONE
BEGIN:VEVENT
UID:3323-events@smcpl.org
DTSTART;TZID=America/Detroit:20220722T130000
DTEND;TZID=America/Detroit:20220722T150000
DTSTAMP;TZID=America/Detroit:20220627T170547
SUMMARY:Jaws interactive movie experience at SMCPL
URL:https://smcpl.org/events/jaws-interactive-movie-experience/
END:VEVENT
END:VCALENDAR