BEGIN:VCALENDAR
VERSION:2.0
PRODID:-//RIGHTHERE//CALENDARIZE IT V3.2//EN
BEGIN:VTIMEZONE
TZID:America/Detroit
BEGIN:STANDARD
DTSTART:20251102T060000
TZOFFSETFROM:-0400
TZOFFSETTO:-0500
TZNAME:EST
END:STANDARD
BEGIN:DAYLIGHT
DTSTART:20260308T070000
TZOFFSETFROM:-0500
TZOFFSETTO:-0400
TZNAME:EDT
END:DAYLIGHT
BEGIN:STANDARD
DTSTART:20261101T060000
TZOFFSETFROM:-0400
TZOFFSETTO:-0500
TZNAME:EST
END:STANDARD
END:VTIMEZONE
BEGIN:VEVENT
UID:3355-events@smcpl.org
DTSTART;TZID=America/Detroit:20220425T000000
DTEND;TZID=America/Detroit:20220425T000000
DTSTAMP;TZID=America/Detroit:20220629T133810
SUMMARY:Sewing Class: Buttonholes
RDATE;TZID=America/Detroit;VALUE=PERIOD:20220718T160000/20220718T183000
URL:https://smcpl.org/events/sewing-machine-buttonholes/
LOCATION:St. Marys Community Public Library\, 140 S. Chestnut Street\, St. 
 Marys\, Ohio 45885
END:VEVENT
END:VCALENDAR