BEGIN:VCALENDAR
VERSION:2.0
PRODID:-//RIGHTHERE//CALENDARIZE IT V3.2//EN
BEGIN:VTIMEZONE
TZID:America/Detroit
BEGIN:STANDARD
DTSTART:20251102T060000
TZOFFSETFROM:-0400
TZOFFSETTO:-0500
TZNAME:EST
END:STANDARD
BEGIN:DAYLIGHT
DTSTART:20260308T070000
TZOFFSETFROM:-0500
TZOFFSETTO:-0400
TZNAME:EDT
END:DAYLIGHT
BEGIN:STANDARD
DTSTART:20261101T060000
TZOFFSETFROM:-0400
TZOFFSETTO:-0500
TZNAME:EST
END:STANDARD
END:VTIMEZONE
BEGIN:VEVENT
UID:3413-events@smcpl.org
DTSTART;TZID=America/Detroit:20220921T103000
DTEND;TZID=America/Detroit:20220921T110000
DTSTAMP;TZID=America/Detroit:20220901T131125
SUMMARY:Preschool Story Time Fall 2022
RDATE;TZID=America/Detroit;VALUE=PERIOD:20220928T103000/20220928T110000,202
 21005T103000/20221005T110000,20221012T103000/20221012T110000,20221019T1030
 00/20221019T110000,20221026T103000/20221026T110000,20221102T103000/2022110
 2T110000,20221109T103000/20221109T110000,20221116T103000/20221116T110000
URL:https://smcpl.org/events/preschool-story-time-fall-2022/
ORGANIZER;CN=St. Marys Community Public Library:
LOCATION:St. Marys Community Public Library\, 140 S. Chestnut Street\, St. 
 Marys\, Ohio 45885
END:VEVENT
END:VCALENDAR