BEGIN:VCALENDAR
VERSION:2.0
PRODID:-//RIGHTHERE//CALENDARIZE IT V3.2//EN
BEGIN:VTIMEZONE
TZID:America/Detroit
BEGIN:STANDARD
DTSTART:20251102T060000
TZOFFSETFROM:-0400
TZOFFSETTO:-0500
TZNAME:EST
END:STANDARD
BEGIN:DAYLIGHT
DTSTART:20260308T070000
TZOFFSETFROM:-0500
TZOFFSETTO:-0400
TZNAME:EDT
END:DAYLIGHT
BEGIN:STANDARD
DTSTART:20261101T060000
TZOFFSETFROM:-0400
TZOFFSETTO:-0500
TZNAME:EST
END:STANDARD
END:VTIMEZONE
BEGIN:VEVENT
UID:3510-events@smcpl.org
DTSTART;TZID=America/Detroit:20220901T100000
DTEND;TZID=America/Detroit:20220901T190000
DTSTAMP;TZID=America/Detroit:20220908T113549
SUMMARY:National Library Card Sign Up Month
RDATE;TZID=America/Detroit;VALUE=PERIOD:20220902T100000/20220902T170000,202
 20903T100000/20220903T140000,20220906T100000/20220906T190000,20220907T1000
 00/20220907T190000,20220908T100000/20220908T190000,20220909T100000/2022090
 9T170000,20220910T100000/20220910T140000,20220912T100000/20220912T190000,2
 0220913T100000/20220913T190000,20220914T100000/20220914T190000,20220915T10
 0000/20220915T190000,20220916T100000/20220916T170000,20220917T100000/20220
 917T140000,20220919T100000/20220919T190000,20220920T100000/20220920T190000
 ,20220921T100000/20220921T190000,20220922T100000/20220922T190000,20220923T
 100000/20220923T170000,20220924T100000/20220924T140000,20220926T100000/202
 20926T190000,20220927T100000/20220927T190000,20220928T100000/20220928T1900
 00,20220929T100000/20220929T190000,20220930T100000/20220930T170000
URL:https://smcpl.org/events/national-library-card-sign-up-month/
ORGANIZER;CN=St. Marys Community Public Library:
LOCATION:St. Marys Community Public Library\, 140 S. Chestnut Street\, St. 
 Marys\, Ohio 45885
END:VEVENT
END:VCALENDAR