BEGIN:VCALENDAR
VERSION:2.0
PRODID:-//RIGHTHERE//CALENDARIZE IT V3.2//EN
BEGIN:VTIMEZONE
TZID:America/Detroit
BEGIN:STANDARD
DTSTART:20251102T060000
TZOFFSETFROM:-0400
TZOFFSETTO:-0500
TZNAME:EST
END:STANDARD
BEGIN:DAYLIGHT
DTSTART:20260308T070000
TZOFFSETFROM:-0500
TZOFFSETTO:-0400
TZNAME:EDT
END:DAYLIGHT
BEGIN:STANDARD
DTSTART:20261101T060000
TZOFFSETFROM:-0400
TZOFFSETTO:-0500
TZNAME:EST
END:STANDARD
END:VTIMEZONE
BEGIN:VEVENT
UID:3515-events@smcpl.org
DTSTART;TZID=America/Detroit:20221003T100000
DTEND;TZID=America/Detroit:20221003T190000
DTSTAMP;TZID=America/Detroit:20220908T164959
SUMMARY:Walk with Nature Fall Festival Bookmark Contest 2022
RDATE;TZID=America/Detroit;VALUE=PERIOD:20220909T100000/20220909T170000,202
 20910T100000/20220910T140000,20220912T100000/20220912T190000,20220913T1000
 00/20220913T190000,20220914T100000/20220914T190000,20220915T100000/2022091
 5T190000,20220916T100000/20220916T170000,20220917T100000/20220917T140000,2
 0220919T100000/20220919T190000,20220920T100000/20220920T190000,20220921T10
 0000/20220921T190000,20220922T100000/20220922T190000,20220923T100000/20220
 923T170000,20220924T100000/20220924T140000,20220926T100000/20220926T190000
 ,20220927T100000/20220927T190000,20220928T100000/20220928T190000,20220929T
 100000/20220929T190000,20220930T100000/20220930T170000,20221001T100000/202
 21001T140000,20221004T100000/20221004T190000,20221005T100000/20221005T1900
 00,20221006T100000/20221006T190000,20221007T100000/20221007T190000,2022100
 8T100000/20221008T140000
URL:https://smcpl.org/events/walk-with-nature-fall-festival-bookmark-contes
 t-2022/
LOCATION:St. Marys Community Public Library\, 140 S. Chestnut Street\, St. 
 Marys\, Ohio 45885
END:VEVENT
END:VCALENDAR