BEGIN:VCALENDAR
VERSION:2.0
PRODID:-//RIGHTHERE//CALENDARIZE IT V3.2//EN
BEGIN:VTIMEZONE
TZID:America/Detroit
BEGIN:STANDARD
DTSTART:20251102T060000
TZOFFSETFROM:-0400
TZOFFSETTO:-0500
TZNAME:EST
END:STANDARD
BEGIN:DAYLIGHT
DTSTART:20260308T070000
TZOFFSETFROM:-0500
TZOFFSETTO:-0400
TZNAME:EDT
END:DAYLIGHT
BEGIN:STANDARD
DTSTART:20261101T060000
TZOFFSETFROM:-0400
TZOFFSETTO:-0500
TZNAME:EST
END:STANDARD
END:VTIMEZONE
BEGIN:VEVENT
UID:3550-events@smcpl.org
DTSTART;TZID=America/Detroit:20221024T160000
DTEND;TZID=America/Detroit:20221024T183000
DTSTAMP;TZID=America/Detroit:20221011T113645
SUMMARY:Sewing Holiday Ornaments
RDATE;TZID=America/Detroit;VALUE=PERIOD:20221114T160000/20221114T183000,202
 21212T160000/20221212T183000
URL:https://smcpl.org/events/sewing-holiday-ornaments/
LOCATION:St. Marys Community Public Library\, 140 S. Chestnut Street\, St. 
 Marys\, Ohio 45885
END:VEVENT
END:VCALENDAR