BEGIN:VCALENDAR
VERSION:2.0
PRODID:-//RIGHTHERE//CALENDARIZE IT V3.2//EN
BEGIN:VTIMEZONE
TZID:America/Detroit
BEGIN:STANDARD
DTSTART:20251102T060000
TZOFFSETFROM:-0400
TZOFFSETTO:-0500
TZNAME:EST
END:STANDARD
BEGIN:DAYLIGHT
DTSTART:20260308T070000
TZOFFSETFROM:-0500
TZOFFSETTO:-0400
TZNAME:EDT
END:DAYLIGHT
BEGIN:STANDARD
DTSTART:20261101T060000
TZOFFSETFROM:-0400
TZOFFSETTO:-0500
TZNAME:EST
END:STANDARD
END:VTIMEZONE
BEGIN:VEVENT
UID:3765-events@smcpl.org
DTSTART;TZID=America/Detroit:20221116T163000
DTEND;TZID=America/Detroit:20221116T173000
DTSTAMP;TZID=America/Detroit:20221115T125623
SUMMARY:Drop In LEGO Fun
RDATE;TZID=America/Detroit;VALUE=PERIOD:20221130T163000/20221130T173000,202
 21207T163000/20221207T173000,20221214T163000/20221214T173000,20221221T1630
 00/20221221T173000,20221228T163000/20221228T173000,20230104T163000/2023010
 4T173000,20230111T163000/20230111T173000,20230118T163000/20230118T173000,2
 0230125T163000/20230125T173000,20230201T163000/20230201T173000,20230208T16
 3000/20230208T173000,20230215T163000/20230215T173000,20230222T163000/20230
 222T173000,20230301T163000/20230301T173000,20230308T163000/20230308T173000
 ,20230315T163000/20230315T173000,20230322T163000/20230322T173000,20230329T
 163000/20230329T173000,20230405T163000/20230405T173000,20230412T163000/202
 30412T173000,20230419T163000/20230419T173000,20230426T163000/20230426T1730
 00,20230503T163000/20230503T173000,20230510T163000/20230510T173000,2023051
 7T163000/20230517T173000,20230524T163000/20230524T173000,20230531T163000/2
 0230531T173000,20230607T163000/20230607T173000,20230614T163000/20230614T17
 3000,20230621T163000/20230621T173000,20230628T163000/20230628T173000,20230
 705T163000/20230705T173000,20230712T163000/20230712T173000,20230719T163000
 /20230719T173000,20230726T163000/20230726T173000,20230802T163000/20230802T
 173000,20230809T163000/20230809T173000,20230816T163000/20230816T173000,202
 30823T163000/20230823T173000,20230830T163000/20230830T173000,20230906T1630
 00/20230906T173000,20230913T163000/20230913T173000,20230920T163000/2023092
 0T173000,20230927T163000/20230927T173000,20231004T163000/20231004T173000,2
 0231011T163000/20231011T173000,20231018T163000/20231018T173000,20231025T16
 3000/20231025T173000,20231101T163000/20231101T173000,20231108T163000/20231
 108T173000,20231115T163000/20231115T173000,20231129T163000/20231129T173000
 ,20231206T163000/20231206T173000,20231213T163000/20231213T173000,20231220T
 163000/20231220T173000,20231227T163000/20231227T173000,20240103T163000/202
 40103T173000,20240110T163000/20240110T173000,20240117T163000/20240117T1730
 00,20240124T163000/20240124T173000,20240131T163000/20240131T173000,2024020
 7T163000/20240207T173000,20240214T163000/20240214T173000,20240221T163000/2
 0240221T173000,20240228T163000/20240228T173000,20240306T163000/20240306T17
 3000,20240313T163000/20240313T173000,20240320T163000/20240320T173000,20240
 327T163000/20240327T173000,20240403T163000/20240403T173000,20240410T163000
 /20240410T173000,20240417T163000/20240417T173000,20240424T163000/20240424T
 173000,20240501T163000/20240501T173000,20240508T163000/20240508T173000,202
 40515T163000/20240515T173000,20240522T163000/20240522T173000,20240529T1630
 00/20240529T173000,20240605T163000/20240605T173000,20240612T163000/2024061
 2T173000,20240626T163000/20240626T173000,20240703T163000/20240703T173000,2
 0240710T163000/20240710T173000,20240717T163000/20240717T173000,20240724T16
 3000/20240724T173000,20240731T163000/20240731T173000,20240807T163000/20240
 807T173000,20240814T163000/20240814T173000,20240821T163000/20240821T173000
 ,20240828T163000/20240828T173000,20240904T163000/20240904T173000,20240911T
 163000/20240911T173000,20240918T163000/20240918T173000,20240925T163000/202
 40925T173000,20241002T163000/20241002T173000,20241009T163000/20241009T1730
 00,20241016T163000/20241016T173000,20241023T163000/20241023T173000,2024103
 0T163000/20241030T173000,20241106T163000/20241106T173000,20241113T163000/2
 0241113T173000,20241120T163000/20241120T173000,20241211T163000/20241211T17
 3000,20241218T163000/20241218T173000
URL:https://smcpl.org/events/drop-in-lego-fun/
LOCATION:St. Marys Community Public Library\, 140 S. Chestnut Street\, St. 
 Marys\, Ohio 45885
END:VEVENT
END:VCALENDAR