BEGIN:VCALENDAR
VERSION:2.0
PRODID:-//RIGHTHERE//CALENDARIZE IT V3.2//EN
BEGIN:VTIMEZONE
TZID:America/Detroit
BEGIN:STANDARD
DTSTART:20251102T060000
TZOFFSETFROM:-0400
TZOFFSETTO:-0500
TZNAME:EST
END:STANDARD
BEGIN:DAYLIGHT
DTSTART:20260308T070000
TZOFFSETFROM:-0500
TZOFFSETTO:-0400
TZNAME:EDT
END:DAYLIGHT
BEGIN:STANDARD
DTSTART:20261101T060000
TZOFFSETFROM:-0400
TZOFFSETTO:-0500
TZNAME:EST
END:STANDARD
END:VTIMEZONE
BEGIN:VEVENT
UID:3835-events@smcpl.org
DTSTART;TZID=America/Detroit:20221220T110000
DTEND;TZID=America/Detroit:20221220T120000
DTSTAMP;TZID=America/Detroit:20221201T174427
SUMMARY:Computer Classes in December and January
RDATE;TZID=America/Detroit;VALUE=PERIOD:20230117T110000/20230117T120000,202
 30118T170000/20230118T180000
URL:https://smcpl.org/events/computer-classes-in-december-and-january/
LOCATION:St. Marys Community Public Library\, 140 S. Chestnut Street\, St. 
 Marys\, Ohio 45885
END:VEVENT
END:VCALENDAR