BEGIN:VCALENDAR
VERSION:2.0
PRODID:-//RIGHTHERE//CALENDARIZE IT V3.2//EN
BEGIN:VTIMEZONE
TZID:America/Detroit
BEGIN:STANDARD
DTSTART:20251102T060000
TZOFFSETFROM:-0400
TZOFFSETTO:-0500
TZNAME:EST
END:STANDARD
BEGIN:DAYLIGHT
DTSTART:20260308T070000
TZOFFSETFROM:-0500
TZOFFSETTO:-0400
TZNAME:EDT
END:DAYLIGHT
BEGIN:STANDARD
DTSTART:20261101T060000
TZOFFSETFROM:-0400
TZOFFSETTO:-0500
TZNAME:EST
END:STANDARD
END:VTIMEZONE
BEGIN:VEVENT
UID:3891-events@smcpl.org
DTSTART;TZID=America/Detroit:20230118T103000
DTEND;TZID=America/Detroit:20230118T110000
DTSTAMP;TZID=America/Detroit:20230103T145421
SUMMARY:Preschool Story Time 2023
RDATE;TZID=America/Detroit;VALUE=PERIOD:20230125T103000/20230125T110000,202
 30201T103000/20230201T110000,20230208T103000/20230208T110000,20230215T1030
 00/20230215T110000,20230222T103000/20230222T110000,20230315T103000/2023031
 5T110000,20230322T103000/20230322T110000,20230329T103000/20230329T110000,2
 0230405T103000/20230405T110000,20230412T103000/20230412T110000,20230419T10
 3000/20230419T110000
URL:https://smcpl.org/events/preschool-story-time-2023/
LOCATION:St. Marys Community Public Library\, 140 S. Chestnut Street\, St. 
 Marys\, Ohio 45885
END:VEVENT
END:VCALENDAR