BEGIN:VCALENDAR
VERSION:2.0
PRODID:-//RIGHTHERE//CALENDARIZE IT V3.2//EN
BEGIN:VTIMEZONE
TZID:America/Detroit
BEGIN:STANDARD
DTSTART:20251102T060000
TZOFFSETFROM:-0400
TZOFFSETTO:-0500
TZNAME:EST
END:STANDARD
BEGIN:DAYLIGHT
DTSTART:20260308T070000
TZOFFSETFROM:-0500
TZOFFSETTO:-0400
TZNAME:EDT
END:DAYLIGHT
BEGIN:STANDARD
DTSTART:20261101T060000
TZOFFSETFROM:-0400
TZOFFSETTO:-0500
TZNAME:EST
END:STANDARD
END:VTIMEZONE
BEGIN:VEVENT
UID:3902-events@smcpl.org
DTSTART;TZID=America/Detroit:20230124T133000
DTEND;TZID=America/Detroit:20230124T143000
DTSTAMP;TZID=America/Detroit:20230103T152845
SUMMARY:Local History Round Table to be Held at SMCPL
RDATE;TZID=America/Detroit;VALUE=PERIOD:20230228T133000/20230228T143000,202
 30328T133000/20230328T143000,20230425T133000/20230425T143000,20230523T1330
 00/20230523T143000,20230627T133000/20230627T143000,20230725T133000/2023072
 5T143000,20230822T133000/20230822T143000,20230926T133000/20230926T143000,2
 0231024T133000/20231024T143000,20231128T133000/20231128T143000
URL:https://smcpl.org/events/local-history-round-table-to-be-held-at-smcpl/
LOCATION:St. Marys Community Public Library\, 140 S. Chestnut Street\, St. 
 Marys\, Ohio 45885
END:VEVENT
END:VCALENDAR