BEGIN:VCALENDAR
VERSION:2.0
PRODID:-//RIGHTHERE//CALENDARIZE IT V3.2//EN
BEGIN:VTIMEZONE
TZID:America/Detroit
BEGIN:STANDARD
DTSTART:20251102T060000
TZOFFSETFROM:-0400
TZOFFSETTO:-0500
TZNAME:EST
END:STANDARD
BEGIN:DAYLIGHT
DTSTART:20260308T070000
TZOFFSETFROM:-0500
TZOFFSETTO:-0400
TZNAME:EDT
END:DAYLIGHT
BEGIN:STANDARD
DTSTART:20261101T060000
TZOFFSETFROM:-0400
TZOFFSETTO:-0500
TZNAME:EST
END:STANDARD
END:VTIMEZONE
BEGIN:VEVENT
UID:3956-events@smcpl.org
DTSTART;TZID=America/Detroit:20230201T100000
DTEND;TZID=America/Detroit:20230201T190000
DTSTAMP;TZID=America/Detroit:20230201T171432
SUMMARY:TAKE YOUR CHILD TO THE LIBRARY DAY 2023
RDATE;TZID=America/Detroit;VALUE=PERIOD:20230202T100000/20230202T190000,202
 30203T100000/20230203T170000,20230204T100000/20230204T140000,20230206T1000
 00/20230206T190000,20230207T100000/20230207T190000,20230208T100000/2023020
 8T190000,20230209T100000/20230209T190000,20230210T100000/20230210T170000,2
 0230211T100000/20230211T170000,20230213T100000/20230213T190000,20230214T10
 0000/20230214T190000,20230215T100000/20230215T190000
URL:https://smcpl.org/events/take-your-child-to-the-library-day-2023/
LOCATION:St. Marys Community Public Library\, 140 S. Chestnut Street\, St. 
 Marys\, Ohio 45885
END:VEVENT
END:VCALENDAR