BEGIN:VCALENDAR
VERSION:2.0
PRODID:-//RIGHTHERE//CALENDARIZE IT V3.2//EN
BEGIN:VTIMEZONE
TZID:America/Detroit
BEGIN:STANDARD
DTSTART:20251102T060000
TZOFFSETFROM:-0400
TZOFFSETTO:-0500
TZNAME:EST
END:STANDARD
BEGIN:DAYLIGHT
DTSTART:20260308T070000
TZOFFSETFROM:-0500
TZOFFSETTO:-0400
TZNAME:EDT
END:DAYLIGHT
BEGIN:STANDARD
DTSTART:20261101T060000
TZOFFSETFROM:-0400
TZOFFSETTO:-0500
TZNAME:EST
END:STANDARD
END:VTIMEZONE
BEGIN:VEVENT
UID:3979-events@smcpl.org
DTSTART;VALUE=DATE:20230501
DTEND;VALUE=DATE:20230501
DTSTAMP;TZID=America/Detroit:20230203T114311
SUMMARY:Closed for Holidays in 2023
RDATE;TZID=America/Detroit;VALUE=PERIOD:20230101T000000/20230101T000000,202
 30102T000000/20230102T000000,20230116T000000/20230116T000000,20230220T0000
 00/20230220T000000,20230529T000000/20230529T000000,20230619T000000/2023061
 9T000000,20230704T000000/20230704T000000,20230904T000000/20230904T000000,2
 0231110T000000/20231110T000000,20231111T000000/20231111T000000,20231123T00
 0000/20231123T000000,20231124T000000/20231124T000000,20231225T000000/20231
 225T000000,20231226T000000/20231226T000000
URL:https://smcpl.org/events/closed-holidays-2023/
END:VEVENT
END:VCALENDAR