BEGIN:VCALENDAR
VERSION:2.0
PRODID:-//RIGHTHERE//CALENDARIZE IT V3.2//EN
BEGIN:VTIMEZONE
TZID:America/Detroit
BEGIN:STANDARD
DTSTART:20251102T060000
TZOFFSETFROM:-0400
TZOFFSETTO:-0500
TZNAME:EST
END:STANDARD
BEGIN:DAYLIGHT
DTSTART:20260308T070000
TZOFFSETFROM:-0500
TZOFFSETTO:-0400
TZNAME:EDT
END:DAYLIGHT
BEGIN:STANDARD
DTSTART:20261101T060000
TZOFFSETFROM:-0400
TZOFFSETTO:-0500
TZNAME:EST
END:STANDARD
END:VTIMEZONE
BEGIN:VEVENT
UID:3982-events@smcpl.org
DTSTART;VALUE=DATE:20230214
DTEND;VALUE=DATE:20230214
DTSTAMP;TZID=America/Detroit:20230203T115559
SUMMARY:Library to Celebrate Auglaize County 175th Birthday
URL:https://smcpl.org/events/library-to-celebrate-auglaize-county/
END:VEVENT
END:VCALENDAR