BEGIN:VCALENDAR
VERSION:2.0
PRODID:-//RIGHTHERE//CALENDARIZE IT V3.2//EN
BEGIN:VTIMEZONE
TZID:America/Detroit
BEGIN:STANDARD
DTSTART:20251102T060000
TZOFFSETFROM:-0400
TZOFFSETTO:-0500
TZNAME:EST
END:STANDARD
BEGIN:DAYLIGHT
DTSTART:20260308T070000
TZOFFSETFROM:-0500
TZOFFSETTO:-0400
TZNAME:EDT
END:DAYLIGHT
BEGIN:STANDARD
DTSTART:20261101T060000
TZOFFSETFROM:-0400
TZOFFSETTO:-0500
TZNAME:EST
END:STANDARD
END:VTIMEZONE
BEGIN:VEVENT
UID:4014-events@smcpl.org
DTSTART;TZID=America/Detroit:20230605T173000
DTEND;TZID=America/Detroit:20230605T190000
DTSTAMP;TZID=America/Detroit:20230211T155225
SUMMARY:Laura Ingalls Wilder Impersonator to Visit St Marys Opera House
URL:https://smcpl.org/events/laura-ingalls-wilder-at-the-grand-opera-house/
LOCATION:The Grand Opera House\, 119 W. Spring St.\, St. Marys\, Ohio 45885
END:VEVENT
END:VCALENDAR