BEGIN:VCALENDAR
VERSION:2.0
PRODID:-//RIGHTHERE//CALENDARIZE IT V3.2//EN
BEGIN:VTIMEZONE
TZID:America/Detroit
BEGIN:STANDARD
DTSTART:20251102T060000
TZOFFSETFROM:-0400
TZOFFSETTO:-0500
TZNAME:EST
END:STANDARD
BEGIN:DAYLIGHT
DTSTART:20260308T070000
TZOFFSETFROM:-0500
TZOFFSETTO:-0400
TZNAME:EDT
END:DAYLIGHT
BEGIN:STANDARD
DTSTART:20261101T060000
TZOFFSETFROM:-0400
TZOFFSETTO:-0500
TZNAME:EST
END:STANDARD
END:VTIMEZONE
BEGIN:VEVENT
UID:4021-events@smcpl.org
DTSTART;TZID=America/Detroit:20230301T180000
DTEND;TZID=America/Detroit:20230301T190000
DTSTAMP;TZID=America/Detroit:20230211T164128
SUMMARY:Creative Writing Dungeons and Dragons Classes
RDATE;TZID=America/Detroit;VALUE=PERIOD:20230308T180000/20230308T190000,202
 30315T180000/20230315T190000,20230322T180000/20230322T190000,20230329T1800
 00/20230329T190000
URL:https://smcpl.org/events/creative-writing-dungeons-and-dragons-classes/
LOCATION:St. Marys Community Public Library\, 140 S. Chestnut Street\, St. 
 Marys\, Ohio 45885
END:VEVENT
END:VCALENDAR