BEGIN:VCALENDAR
VERSION:2.0
PRODID:-//RIGHTHERE//CALENDARIZE IT V3.2//EN
BEGIN:VTIMEZONE
TZID:America/Detroit
BEGIN:STANDARD
DTSTART:20251102T060000
TZOFFSETFROM:-0400
TZOFFSETTO:-0500
TZNAME:EST
END:STANDARD
BEGIN:DAYLIGHT
DTSTART:20260308T070000
TZOFFSETFROM:-0500
TZOFFSETTO:-0400
TZNAME:EDT
END:DAYLIGHT
BEGIN:STANDARD
DTSTART:20261101T060000
TZOFFSETFROM:-0400
TZOFFSETTO:-0500
TZNAME:EST
END:STANDARD
END:VTIMEZONE
BEGIN:VEVENT
UID:4027-events@smcpl.org
DTSTART;TZID=America/Detroit:20230309T180000
DTEND;TZID=America/Detroit:20230309T190000
DTSTAMP;TZID=America/Detroit:20230224T164133
SUMMARY:March Book Discussion to be Held in St. Marys Library
URL:https://smcpl.org/events/march-book-discussion-2023/
END:VEVENT
END:VCALENDAR