BEGIN:VCALENDAR
VERSION:2.0
PRODID:-//RIGHTHERE//CALENDARIZE IT V3.2//EN
BEGIN:VTIMEZONE
TZID:America/Detroit
BEGIN:STANDARD
DTSTART:20251102T060000
TZOFFSETFROM:-0400
TZOFFSETTO:-0500
TZNAME:EST
END:STANDARD
BEGIN:DAYLIGHT
DTSTART:20260308T070000
TZOFFSETFROM:-0500
TZOFFSETTO:-0400
TZNAME:EDT
END:DAYLIGHT
BEGIN:STANDARD
DTSTART:20261101T060000
TZOFFSETFROM:-0400
TZOFFSETTO:-0500
TZNAME:EST
END:STANDARD
END:VTIMEZONE
BEGIN:VEVENT
UID:4101-events@smcpl.org
DTSTART;TZID=America/Detroit:20230405T180000
DTEND;TZID=America/Detroit:20230405T190000
DTSTAMP;TZID=America/Detroit:20230320T112938
SUMMARY:Simon Girty Impersonator to Visit Grand Opera House
URL:https://smcpl.org/events/simon-girty-impersonator-to-visit-grand-opera-
 house/
LOCATION:The Grand Opera House\, 119 W. Spring St.\, St. Marys\, Ohio 45885
END:VEVENT
END:VCALENDAR