BEGIN:VCALENDAR
VERSION:2.0
PRODID:-//RIGHTHERE//CALENDARIZE IT V3.2//EN
BEGIN:VTIMEZONE
TZID:America/Detroit
BEGIN:STANDARD
DTSTART:20251102T060000
TZOFFSETFROM:-0400
TZOFFSETTO:-0500
TZNAME:EST
END:STANDARD
BEGIN:DAYLIGHT
DTSTART:20260308T070000
TZOFFSETFROM:-0500
TZOFFSETTO:-0400
TZNAME:EDT
END:DAYLIGHT
BEGIN:STANDARD
DTSTART:20261101T060000
TZOFFSETFROM:-0400
TZOFFSETTO:-0500
TZNAME:EST
END:STANDARD
END:VTIMEZONE
BEGIN:VEVENT
UID:4168-events@smcpl.org
DTSTART;TZID=America/Detroit:20230515T100000
DTEND;TZID=America/Detroit:20230515T190000
DTSTAMP;TZID=America/Detroit:20230415T131659
SUMMARY:St. Marys Library hosting garden plant swap
RDATE;TZID=America/Detroit;VALUE=PERIOD:20230516T100000/20230516T190000,202
 30517T100000/20230517T190000,20230518T100000/20230518T190000,20230519T1000
 00/20230519T170000,20230520T100000/20230520T170000
URL:https://smcpl.org/events/st-marys-library-hosting-garden-plant-swap/
LOCATION:St. Marys Community Public Library\, 140 S. Chestnut Street\, St. 
 Marys\, Ohio 45885
END:VEVENT
END:VCALENDAR