BEGIN:VCALENDAR
VERSION:2.0
PRODID:-//RIGHTHERE//CALENDARIZE IT V3.2//EN
BEGIN:VTIMEZONE
TZID:America/Detroit
BEGIN:STANDARD
DTSTART:20251102T060000
TZOFFSETFROM:-0400
TZOFFSETTO:-0500
TZNAME:EST
END:STANDARD
BEGIN:DAYLIGHT
DTSTART:20260308T070000
TZOFFSETFROM:-0500
TZOFFSETTO:-0400
TZNAME:EDT
END:DAYLIGHT
BEGIN:STANDARD
DTSTART:20261101T060000
TZOFFSETFROM:-0400
TZOFFSETTO:-0500
TZNAME:EST
END:STANDARD
END:VTIMEZONE
BEGIN:VEVENT
UID:4171-events@smcpl.org
DTSTART;TZID=America/Detroit:20230517T190000
DTEND;TZID=America/Detroit:20230517T203000
DTSTAMP;TZID=America/Detroit:20230415T132433
SUMMARY:“Lori the Herbchick” Presents Edible and Medicinal Plants in Yo
 ur Backyard
URL:https://smcpl.org/events/lori-the-herbchick-presents-edible-and-medicin
 al-plants-in-your-backyard/
LOCATION:St. Marys Community Public Library\, 140 S. Chestnut Street\, St. 
 Marys\, Ohio 45885
END:VEVENT
END:VCALENDAR