BEGIN:VCALENDAR
VERSION:2.0
PRODID:-//RIGHTHERE//CALENDARIZE IT V3.2//EN
BEGIN:VTIMEZONE
TZID:America/Detroit
BEGIN:STANDARD
DTSTART:20251102T060000
TZOFFSETFROM:-0400
TZOFFSETTO:-0500
TZNAME:EST
END:STANDARD
BEGIN:DAYLIGHT
DTSTART:20260308T070000
TZOFFSETFROM:-0500
TZOFFSETTO:-0400
TZNAME:EDT
END:DAYLIGHT
BEGIN:STANDARD
DTSTART:20261101T060000
TZOFFSETFROM:-0400
TZOFFSETTO:-0500
TZNAME:EST
END:STANDARD
END:VTIMEZONE
BEGIN:VEVENT
UID:4178-events@smcpl.org
DTSTART;TZID=America/Detroit:20230501T000000
DTEND;TZID=America/Detroit:20230506T170000
DTSTAMP;TZID=America/Detroit:20230515T134425
SUMMARY:May Garden Scavenger Hunt in the Library
RRULE:FREQ=WEEKLY;INTERVAL=1;WKST=SU;UNTIL=20230527
URL:https://smcpl.org/events/may-garden-scavenger-hunt-in-the-library/
LOCATION:St. Marys Community Public Library\, 140 S. Chestnut Street\, St. 
 Marys\, Ohio 45885
END:VEVENT
END:VCALENDAR