BEGIN:VCALENDAR
VERSION:2.0
PRODID:-//RIGHTHERE//CALENDARIZE IT V3.2//EN
BEGIN:VTIMEZONE
TZID:America/Detroit
BEGIN:STANDARD
DTSTART:20251102T060000
TZOFFSETFROM:-0400
TZOFFSETTO:-0500
TZNAME:EST
END:STANDARD
BEGIN:DAYLIGHT
DTSTART:20260308T070000
TZOFFSETFROM:-0500
TZOFFSETTO:-0400
TZNAME:EDT
END:DAYLIGHT
BEGIN:STANDARD
DTSTART:20261101T060000
TZOFFSETFROM:-0400
TZOFFSETTO:-0500
TZNAME:EST
END:STANDARD
END:VTIMEZONE
BEGIN:VEVENT
UID:4194-events@smcpl.org
DTSTART;TZID=America/Detroit:20230501T000000
DTEND;TZID=America/Detroit:20230506T170000
DTSTAMP;TZID=America/Detroit:20230515T175243
SUMMARY:June Birthday Scavenger Hunt in the Library
RRULE:FREQ=WEEKLY;INTERVAL=1;WKST=SU;UNTIL=20230624
EXDATE:20230501T040000Z,20230508T040000Z,20230515T040000Z,20230522T040000Z,
 20230529T040000Z
URL:https://smcpl.org/events/june-garden-scavenger-hunt-2023/
LOCATION:St. Marys Community Public Library\, 140 S. Chestnut Street\, St. 
 Marys\, Ohio 45885
END:VEVENT
END:VCALENDAR