BEGIN:VCALENDAR
VERSION:2.0
PRODID:-//RIGHTHERE//CALENDARIZE IT V3.2//EN
BEGIN:VTIMEZONE
TZID:America/Detroit
BEGIN:STANDARD
DTSTART:20251102T060000
TZOFFSETFROM:-0400
TZOFFSETTO:-0500
TZNAME:EST
END:STANDARD
BEGIN:DAYLIGHT
DTSTART:20260308T070000
TZOFFSETFROM:-0500
TZOFFSETTO:-0400
TZNAME:EDT
END:DAYLIGHT
BEGIN:STANDARD
DTSTART:20261101T060000
TZOFFSETFROM:-0400
TZOFFSETTO:-0500
TZNAME:EST
END:STANDARD
END:VTIMEZONE
BEGIN:VEVENT
UID:4283-events@smcpl.org
DTSTART;TZID=America/Detroit:20230607T103000
DTEND;TZID=America/Detroit:20230607T110000
DTSTAMP;TZID=America/Detroit:20230519T144912
SUMMARY:Summer Reading Story Time at the library
RDATE;TZID=America/Detroit;VALUE=PERIOD:20230614T103000/20230614T110000,202
 30621T103000/20230621T110000,20230628T103000/20230628T110000,20230712T1030
 00/20230712T110000
URL:https://smcpl.org/events/summer-reading-story-time-at-the-library/
LOCATION:St. Marys Community Public Library\, 140 S. Chestnut Street\, St. 
 Marys\, Ohio 45885
END:VEVENT
END:VCALENDAR