BEGIN:VCALENDAR
VERSION:2.0
PRODID:-//RIGHTHERE//CALENDARIZE IT V3.2//EN
BEGIN:VTIMEZONE
TZID:America/Detroit
BEGIN:STANDARD
DTSTART:20251102T060000
TZOFFSETFROM:-0400
TZOFFSETTO:-0500
TZNAME:EST
END:STANDARD
BEGIN:DAYLIGHT
DTSTART:20260308T070000
TZOFFSETFROM:-0500
TZOFFSETTO:-0400
TZNAME:EDT
END:DAYLIGHT
BEGIN:STANDARD
DTSTART:20261101T060000
TZOFFSETFROM:-0400
TZOFFSETTO:-0500
TZNAME:EST
END:STANDARD
END:VTIMEZONE
BEGIN:VEVENT
UID:4305-events@smcpl.org
DTSTART;TZID=America/Detroit:20230608T150000
DTEND;TZID=America/Detroit:20230608T170000
DTSTAMP;TZID=America/Detroit:20230522T153317
SUMMARY:Children’s Crafternoons – Summer Reading Crafts
EXDATE:20230608T190000Z
RDATE;TZID=America/Detroit;VALUE=PERIOD:20230613T150000/20230613T170000,202
 30620T150000/20230620T170000,20230711T150000/20230711T170000
URL:https://smcpl.org/events/childrens-crafternoons-summer-reading-crafts/
LOCATION:St. Marys Community Public Library\, 140 S. Chestnut Street\, St. 
 Marys\, Ohio 45885
END:VEVENT
END:VCALENDAR