BEGIN:VCALENDAR
VERSION:2.0
PRODID:-//RIGHTHERE//CALENDARIZE IT V3.2//EN
BEGIN:VTIMEZONE
TZID:America/Detroit
BEGIN:STANDARD
DTSTART:20251102T060000
TZOFFSETFROM:-0400
TZOFFSETTO:-0500
TZNAME:EST
END:STANDARD
BEGIN:DAYLIGHT
DTSTART:20260308T070000
TZOFFSETFROM:-0500
TZOFFSETTO:-0400
TZNAME:EDT
END:DAYLIGHT
BEGIN:STANDARD
DTSTART:20261101T060000
TZOFFSETFROM:-0400
TZOFFSETTO:-0500
TZNAME:EST
END:STANDARD
END:VTIMEZONE
BEGIN:VEVENT
UID:4396-events@smcpl.org
DTSTART;TZID=America/Detroit:20230525T170000
DTEND;TZID=America/Detroit:20230525T200000
DTSTAMP;TZID=America/Detroit:20230607T152518
SUMMARY:Sewing a Pioneer Apron
EXDATE:20230525T210000Z
RDATE;TZID=America/Detroit;VALUE=PERIOD:20230629T170000/20230629T200000
URL:https://smcpl.org/events/sewing-pioneer-apron/
ORGANIZER;CN=140 S. Chestnut Street:
LOCATION:St. Marys Community Public Library\, 140 S. Chestnut Street\, St. 
 Marys\, Ohio 45885
END:VEVENT
END:VCALENDAR