BEGIN:VCALENDAR
VERSION:2.0
PRODID:-//RIGHTHERE//CALENDARIZE IT V3.2//EN
BEGIN:VTIMEZONE
TZID:America/Detroit
BEGIN:STANDARD
DTSTART:20251102T060000
TZOFFSETFROM:-0400
TZOFFSETTO:-0500
TZNAME:EST
END:STANDARD
BEGIN:DAYLIGHT
DTSTART:20260308T070000
TZOFFSETFROM:-0500
TZOFFSETTO:-0400
TZNAME:EDT
END:DAYLIGHT
BEGIN:STANDARD
DTSTART:20261101T060000
TZOFFSETFROM:-0400
TZOFFSETTO:-0500
TZNAME:EST
END:STANDARD
END:VTIMEZONE
BEGIN:VEVENT
UID:4598-events@smcpl.org
DTSTART;TZID=America/Detroit:20230816T180000
DTEND;TZID=America/Detroit:20230816T190000
DTSTAMP;TZID=America/Detroit:20230817T184905
SUMMARY:SMCPL Writer’s and Scenarios
RDATE;TZID=America/Detroit;VALUE=PERIOD:20230823T180000/20230823T190000,202
 30830T180000/20230830T190000,20230906T180000/20230906T190000,20230913T1800
 00/20230913T190000,20230920T180000/20230920T190000,20230927T180000/2023092
 7T190000
URL:https://smcpl.org/events/smcpl-writers-and-scenarios/
LOCATION:St. Marys Community Public Library\, 140 S. Chestnut Street\, St. 
 Marys\, Ohio 45885
END:VEVENT
END:VCALENDAR