BEGIN:VCALENDAR
VERSION:2.0
PRODID:-//RIGHTHERE//CALENDARIZE IT V3.2//EN
BEGIN:VTIMEZONE
TZID:America/Detroit
BEGIN:STANDARD
DTSTART:20251102T060000
TZOFFSETFROM:-0400
TZOFFSETTO:-0500
TZNAME:EST
END:STANDARD
BEGIN:DAYLIGHT
DTSTART:20260308T070000
TZOFFSETFROM:-0500
TZOFFSETTO:-0400
TZNAME:EDT
END:DAYLIGHT
BEGIN:STANDARD
DTSTART:20261101T060000
TZOFFSETFROM:-0400
TZOFFSETTO:-0500
TZNAME:EST
END:STANDARD
END:VTIMEZONE
BEGIN:VEVENT
UID:4627-events@smcpl.org
DTSTART;TZID=America/Detroit:20230920T103000
DTEND;TZID=America/Detroit:20230920T110000
DTSTAMP;TZID=America/Detroit:20230828T144633
SUMMARY:Story Times Fall 2023
RDATE;TZID=America/Detroit;VALUE=PERIOD:20230927T103000/20230927T110000,202
 31004T103000/20231004T110000,20231011T103000/20231011T110000,20231018T1030
 00/20231018T110000,20231025T103000/20231025T110000,20231101T103000/2023110
 1T110000,20231108T103000/20231108T110000
URL:https://smcpl.org/events/story-times-fall-2023/
LOCATION:St. Marys Community Public Library\, 140 S. Chestnut Street\, St. 
 Marys\, Ohio 45885
END:VEVENT
END:VCALENDAR