BEGIN:VCALENDAR
VERSION:2.0
PRODID:-//RIGHTHERE//CALENDARIZE IT V3.2//EN
BEGIN:VTIMEZONE
TZID:America/Detroit
BEGIN:STANDARD
DTSTART:20251102T060000
TZOFFSETFROM:-0400
TZOFFSETTO:-0500
TZNAME:EST
END:STANDARD
BEGIN:DAYLIGHT
DTSTART:20260308T070000
TZOFFSETFROM:-0500
TZOFFSETTO:-0400
TZNAME:EDT
END:DAYLIGHT
BEGIN:STANDARD
DTSTART:20261101T060000
TZOFFSETFROM:-0400
TZOFFSETTO:-0500
TZNAME:EST
END:STANDARD
END:VTIMEZONE
BEGIN:VEVENT
UID:4647-events@smcpl.org
DTSTART;TZID=America/Detroit:20231002T180000
DTEND;TZID=America/Detroit:20231002T200000
DTSTAMP;TZID=America/Detroit:20230911T145251
SUMMARY:Greg Shipley presentation “Investigating Early Military-Related S
 ites”
URL:https://smcpl.org/events/greg-shipley-presentation-investigating-early-
 military-related-sites/
LOCATION:The Grand Opera House\, 119 W. Spring St.\, St. Marys\, Ohio 45885
END:VEVENT
END:VCALENDAR