BEGIN:VCALENDAR
VERSION:2.0
PRODID:-//RIGHTHERE//CALENDARIZE IT V3.2//EN
BEGIN:VTIMEZONE
TZID:America/Detroit
BEGIN:STANDARD
DTSTART:20251102T060000
TZOFFSETFROM:-0400
TZOFFSETTO:-0500
TZNAME:EST
END:STANDARD
BEGIN:DAYLIGHT
DTSTART:20260308T070000
TZOFFSETFROM:-0500
TZOFFSETTO:-0400
TZNAME:EDT
END:DAYLIGHT
BEGIN:STANDARD
DTSTART:20261101T060000
TZOFFSETFROM:-0400
TZOFFSETTO:-0500
TZNAME:EST
END:STANDARD
END:VTIMEZONE
BEGIN:VEVENT
UID:4666-events@smcpl.org
DTSTART;TZID=America/Detroit:20231026T170000
DTEND;TZID=America/Detroit:20231026T200000
DTSTAMP;TZID=America/Detroit:20231005T151330
SUMMARY:Sew a Quilted Sewing Organizer Mat and Sewing Machine Cover Part 2
URL:https://smcpl.org/events/sew-a-quilted-sewing-organizer-mat-and-sewing-
 machine-cover-part-2/
LOCATION:St. Marys Community Public Library\, 140 S. Chestnut Street\, St. 
 Marys\, Ohio 45885
END:VEVENT
END:VCALENDAR