BEGIN:VCALENDAR
VERSION:2.0
PRODID:-//RIGHTHERE//CALENDARIZE IT V3.2//EN
BEGIN:VTIMEZONE
TZID:America/Detroit
BEGIN:STANDARD
DTSTART:20251102T060000
TZOFFSETFROM:-0400
TZOFFSETTO:-0500
TZNAME:EST
END:STANDARD
BEGIN:DAYLIGHT
DTSTART:20260308T070000
TZOFFSETFROM:-0500
TZOFFSETTO:-0400
TZNAME:EDT
END:DAYLIGHT
BEGIN:STANDARD
DTSTART:20261101T060000
TZOFFSETFROM:-0400
TZOFFSETTO:-0500
TZNAME:EST
END:STANDARD
END:VTIMEZONE
BEGIN:VEVENT
UID:4750-events@smcpl.org
DTSTART;TZID=America/Detroit:20231218T180000
DTEND;TZID=America/Detroit:20231218T190000
DTSTAMP;TZID=America/Detroit:20231118T142320
SUMMARY:Author Visit Kira Hartley-Klinger – Fabric Wars: Tales of the Hun
 t for Vintage Fabric with Etsy’s DodOddity
URL:https://smcpl.org/events/author-visit-kira-hartley-klinger-fabric-wars-
 tales-of-the-hunt-for-vintage-fabric-with-etsys-dododdity/
LOCATION:St. Marys Community Public Library\, 140 S. Chestnut Street\, St. 
 Marys\, Ohio 45885
END:VEVENT
END:VCALENDAR