BEGIN:VCALENDAR
VERSION:2.0
PRODID:-//RIGHTHERE//CALENDARIZE IT V3.2//EN
BEGIN:VTIMEZONE
TZID:America/Detroit
BEGIN:STANDARD
DTSTART:20251102T060000
TZOFFSETFROM:-0400
TZOFFSETTO:-0500
TZNAME:EST
END:STANDARD
BEGIN:DAYLIGHT
DTSTART:20260308T070000
TZOFFSETFROM:-0500
TZOFFSETTO:-0400
TZNAME:EDT
END:DAYLIGHT
BEGIN:STANDARD
DTSTART:20261101T060000
TZOFFSETFROM:-0400
TZOFFSETTO:-0500
TZNAME:EST
END:STANDARD
END:VTIMEZONE
BEGIN:VEVENT
UID:4753-events@smcpl.org
DTSTART;TZID=America/Detroit:20240313T190000
DTEND;TZID=America/Detroit:20240313T200000
DTSTAMP;TZID=America/Detroit:20231118T143048
SUMMARY:Unlock the Mystery of Solar Eclipses with Christopher Moynihan  –
 Adult Presentation
URL:https://smcpl.org/events/unlock-the-mystery-of-solar-eclipses-with-chri
 stopher-moynihan-at-the-st-marys-community-public-library/
LOCATION:St. Marys Community Public Library\, 140 S. Chestnut Street\, St. 
 Marys\, Ohio 45885
END:VEVENT
END:VCALENDAR