BEGIN:VCALENDAR
VERSION:2.0
PRODID:-//RIGHTHERE//CALENDARIZE IT V3.2//EN
BEGIN:VTIMEZONE
TZID:America/Detroit
BEGIN:STANDARD
DTSTART:20251102T060000
TZOFFSETFROM:-0400
TZOFFSETTO:-0500
TZNAME:EST
END:STANDARD
BEGIN:DAYLIGHT
DTSTART:20260308T070000
TZOFFSETFROM:-0500
TZOFFSETTO:-0400
TZNAME:EDT
END:DAYLIGHT
BEGIN:STANDARD
DTSTART:20261101T060000
TZOFFSETFROM:-0400
TZOFFSETTO:-0500
TZNAME:EST
END:STANDARD
END:VTIMEZONE
BEGIN:VEVENT
UID:4790-events@smcpl.org
DTSTART;TZID=America/Detroit:20240207T103000
DTEND;TZID=America/Detroit:20240207T110000
DTSTAMP;TZID=America/Detroit:20231214T131804
SUMMARY:Preschool Story Time Winter and Spring 2024
RDATE;TZID=America/Detroit;VALUE=PERIOD:20240214T103000/20240214T110000,202
 40221T103000/20240221T110000,20240228T103000/20240228T110000,20240306T1030
 00/20240306T110000,20240313T103000/20240313T110000,20240320T103000/2024032
 0T110000,20240327T103000/20240327T110000,20240403T103000/20240403T110000,2
 0240410T103000/20240410T110000,20240417T103000/20240417T110000,20240424T10
 3000/20240424T110000
URL:https://smcpl.org/events/preschool-story-time-winter-and-spring-2024/
LOCATION:St. Marys Community Public Library\, 140 S. Chestnut Street\, St. 
 Marys\, Ohio 45885
END:VEVENT
END:VCALENDAR