BEGIN:VCALENDAR
VERSION:2.0
PRODID:-//RIGHTHERE//CALENDARIZE IT V3.2//EN
BEGIN:VTIMEZONE
TZID:America/Detroit
BEGIN:STANDARD
DTSTART:20251102T060000
TZOFFSETFROM:-0400
TZOFFSETTO:-0500
TZNAME:EST
END:STANDARD
BEGIN:DAYLIGHT
DTSTART:20260308T070000
TZOFFSETFROM:-0500
TZOFFSETTO:-0400
TZNAME:EDT
END:DAYLIGHT
BEGIN:STANDARD
DTSTART:20261101T060000
TZOFFSETFROM:-0400
TZOFFSETTO:-0500
TZNAME:EST
END:STANDARD
END:VTIMEZONE
BEGIN:VEVENT
UID:4803-events@smcpl.org
DTSTART;VALUE=DATE:20240101
DTEND;VALUE=DATE:20240101
DTSTAMP;TZID=America/Detroit:20231215T163140
SUMMARY:Closed New Year’s 2024
RDATE;TZID=America/Detroit;VALUE=PERIOD:20240102T000000/20240102T000000
URL:https://smcpl.org/events/closed-new-years-2024/
END:VEVENT
END:VCALENDAR