BEGIN:VCALENDAR
VERSION:2.0
PRODID:-//RIGHTHERE//CALENDARIZE IT V3.2//EN
BEGIN:VTIMEZONE
TZID:America/Detroit
BEGIN:STANDARD
DTSTART:20251102T060000
TZOFFSETFROM:-0400
TZOFFSETTO:-0500
TZNAME:EST
END:STANDARD
BEGIN:DAYLIGHT
DTSTART:20260308T070000
TZOFFSETFROM:-0500
TZOFFSETTO:-0400
TZNAME:EDT
END:DAYLIGHT
BEGIN:STANDARD
DTSTART:20261101T060000
TZOFFSETFROM:-0400
TZOFFSETTO:-0500
TZNAME:EST
END:STANDARD
END:VTIMEZONE
BEGIN:VEVENT
UID:4826-events@smcpl.org
DTSTART;TZID=America/Detroit:20240110T180000
DTEND;TZID=America/Detroit:20240110T190000
DTSTAMP;TZID=America/Detroit:20231222T163858
SUMMARY:SMCPL Writers for Teens
RDATE;TZID=America/Detroit;VALUE=PERIOD:20240117T180000/20240117T190000,202
 40124T180000/20240124T190000,20240131T180000/20240131T190000,20240207T1800
 00/20240207T190000,20240214T180000/20240214T190000,20240221T180000/2024022
 1T190000,20240228T180000/20240228T190000,20240306T180000/20240306T190000,2
 0240313T180000/20240313T190000,20240320T180000/20240320T190000,20240327T18
 0000/20240327T190000
URL:https://smcpl.org/events/smcpl-writers-for-teens/
LOCATION:St. Marys Community Public Library\, 140 S. Chestnut Street\, St. 
 Marys\, Ohio 45885
END:VEVENT
END:VCALENDAR