BEGIN:VCALENDAR
VERSION:2.0
PRODID:-//RIGHTHERE//CALENDARIZE IT V3.2//EN
BEGIN:VTIMEZONE
TZID:America/Detroit
BEGIN:STANDARD
DTSTART:20251102T060000
TZOFFSETFROM:-0400
TZOFFSETTO:-0500
TZNAME:EST
END:STANDARD
BEGIN:DAYLIGHT
DTSTART:20260308T070000
TZOFFSETFROM:-0500
TZOFFSETTO:-0400
TZNAME:EDT
END:DAYLIGHT
BEGIN:STANDARD
DTSTART:20261101T060000
TZOFFSETFROM:-0400
TZOFFSETTO:-0500
TZNAME:EST
END:STANDARD
END:VTIMEZONE
BEGIN:VEVENT
UID:4876-events@smcpl.org
DTSTART;TZID=America/Detroit:20240123T133000
DTEND;TZID=America/Detroit:20240123T143000
DTSTAMP;TZID=America/Detroit:20240202T120835
SUMMARY:Local History Roundtable 2024
RDATE;TZID=America/Detroit;VALUE=PERIOD:20240227T133000/20240227T143000,202
 40326T133000/20240326T143000,20240423T133000/20240423T143000,20240528T1330
 00/20240528T143000,20240625T133000/20240625T143000,20240723T133000/2024072
 3T143000,20240827T133000/20240827T143000,20240924T133000/20240924T143000,2
 0241022T133000/20241022T143000,20241126T133000/20241126T143000
URL:https://smcpl.org/events/local-history-roundtable-2024/
LOCATION:St. Marys Community Public Library\, 140 S. Chestnut Street\, St. 
 Marys\, Ohio 45885
END:VEVENT
END:VCALENDAR