BEGIN:VCALENDAR
VERSION:2.0
PRODID:-//RIGHTHERE//CALENDARIZE IT V3.2//EN
BEGIN:VTIMEZONE
TZID:America/Detroit
BEGIN:STANDARD
DTSTART:20251102T060000
TZOFFSETFROM:-0400
TZOFFSETTO:-0500
TZNAME:EST
END:STANDARD
BEGIN:DAYLIGHT
DTSTART:20260308T070000
TZOFFSETFROM:-0500
TZOFFSETTO:-0400
TZNAME:EDT
END:DAYLIGHT
BEGIN:STANDARD
DTSTART:20261101T060000
TZOFFSETFROM:-0400
TZOFFSETTO:-0500
TZNAME:EST
END:STANDARD
END:VTIMEZONE
BEGIN:VEVENT
UID:4920-events@smcpl.org
DTSTART;TZID=America/Detroit:20240308T133000
DTEND;TZID=America/Detroit:20240308T150000
DTSTAMP;TZID=America/Detroit:20240226T181135
SUMMARY:Shakespeare Club Meeting 2024
RDATE;TZID=America/Detroit;VALUE=PERIOD:20240412T133000/20240412T150000,202
 40913T133000/20240913T150000,20240927T133000/20240927T150000,20241011T1330
 00/20241011T150000,20241025T133000/20241025T150000,20241108T133000/2024110
 8T150000,20241122T133000/20241122T150000
URL:https://smcpl.org/events/shakespeare-club-meeting-2024/
LOCATION:St. Marys Community Public Library\, 140 S. Chestnut Street\, St. 
 Marys\, Ohio 45885
END:VEVENT
END:VCALENDAR