BEGIN:VCALENDAR
VERSION:2.0
PRODID:-//RIGHTHERE//CALENDARIZE IT V3.2//EN
BEGIN:VTIMEZONE
TZID:America/Detroit
BEGIN:STANDARD
DTSTART:20251102T060000
TZOFFSETFROM:-0400
TZOFFSETTO:-0500
TZNAME:EST
END:STANDARD
BEGIN:DAYLIGHT
DTSTART:20260308T070000
TZOFFSETFROM:-0500
TZOFFSETTO:-0400
TZNAME:EDT
END:DAYLIGHT
BEGIN:STANDARD
DTSTART:20261101T060000
TZOFFSETFROM:-0400
TZOFFSETTO:-0500
TZNAME:EST
END:STANDARD
END:VTIMEZONE
BEGIN:VEVENT
UID:4927-events@smcpl.org
DTSTART;TZID=America/Detroit:20240410T180000
DTEND;TZID=America/Detroit:20240410T190000
DTSTAMP;TZID=America/Detroit:20240316T141304
SUMMARY:SMCPL Writing – Schedule for April and May 2024
RDATE;TZID=America/Detroit;VALUE=PERIOD:20240417T180000/20240417T190000,202
 40424T180000/20240424T190000,20240501T180000/20240501T190000,20240508T1800
 00/20240508T190000,20240515T180000/20240515T190000,20240522T180000/2024052
 2T190000,20240529T180000/20240529T190000
URL:https://smcpl.org/events/smcpl-writing-schedule-for-april-and-may-2024/
LOCATION:St. Marys Community Public Library\, 140 S. Chestnut Street\, St. 
 Marys\, Ohio 45885
END:VEVENT
END:VCALENDAR