BEGIN:VCALENDAR
VERSION:2.0
PRODID:-//RIGHTHERE//CALENDARIZE IT V3.2//EN
BEGIN:VTIMEZONE
TZID:America/Detroit
BEGIN:STANDARD
DTSTART:20251102T060000
TZOFFSETFROM:-0400
TZOFFSETTO:-0500
TZNAME:EST
END:STANDARD
BEGIN:DAYLIGHT
DTSTART:20260308T070000
TZOFFSETFROM:-0500
TZOFFSETTO:-0400
TZNAME:EDT
END:DAYLIGHT
BEGIN:STANDARD
DTSTART:20261101T060000
TZOFFSETFROM:-0400
TZOFFSETTO:-0500
TZNAME:EST
END:STANDARD
END:VTIMEZONE
BEGIN:VEVENT
UID:4937-events@smcpl.org
DTSTART;TZID=America/Detroit:20240319T130000
DTEND;TZID=America/Detroit:20240319T140000
DTSTAMP;TZID=America/Detroit:20240316T150802
SUMMARY:Mahjong – Beginners Welcome
RDATE;TZID=America/Detroit;VALUE=PERIOD:20240321T130000/20240321T140000,202
 40326T130000/20240326T140000,20240328T130000/20240328T140000,20240402T1300
 00/20240402T140000,20240404T130000/20240404T140000,20240409T130000/2024040
 9T140000,20240411T130000/20240411T140000,20240416T130000/20240416T140000,2
 0240418T130000/20240418T140000,20240423T130000/20240423T140000,20240425T13
 0000/20240425T140000,20240430T130000/20240430T140000,20240502T130000/20240
 502T140000,20240507T130000/20240507T140000,20240509T130000/20240509T140000
 ,20240514T130000/20240514T140000,20240516T130000/20240516T140000,20240521T
 130000/20240521T140000,20240523T130000/20240523T140000,20240528T130000/202
 40528T140000,20240530T130000/20240530T140000,20240604T130000/20240604T1400
 00,20240606T130000/20240606T140000,20240611T130000/20240611T140000,2024061
 3T130000/20240613T140000,20240618T130000/20240618T140000,20240620T130000/2
 0240620T140000,20240625T130000/20240625T140000,20240627T130000/20240627T14
 0000,20240702T130000/20240702T140000,20240709T130000/20240709T140000,20240
 711T130000/20240711T140000,20240716T130000/20240716T140000,20240718T130000
 /20240718T140000,20240723T130000/20240723T140000,20240725T130000/20240725T
 140000,20240730T130000/20240730T140000,20240801T130000/20240801T140000,202
 40806T130000/20240806T140000,20240808T130000/20240808T140000,20240813T1300
 00/20240813T140000,20240815T130000/20240815T140000,20240820T130000/2024082
 0T140000,20240822T130000/20240822T140000,20240827T130000/20240827T140000,2
 0240829T130000/20240829T140000,20240903T130000/20240903T140000,20240905T13
 0000/20240905T140000,20240910T130000/20240910T140000,20240912T130000/20240
 912T140000,20240917T130000/20240917T140000,20240919T130000/20240919T140000
 ,20240924T130000/20240924T140000,20240926T130000/20240926T140000,20241001T
 130000/20241001T140000,20241003T130000/20241003T140000,20241008T130000/202
 41008T140000,20241010T130000/20241010T140000,20241015T130000/20241015T1400
 00,20241017T130000/20241017T140000,20241022T130000/20241022T140000,2024102
 4T130000/20241024T140000,20241029T130000/20241029T140000,20241031T130000/2
 0241031T140000,20241105T130000/20241105T140000,20241107T130000/20241107T14
 0000,20241112T130000/20241112T140000,20241114T130000/20241114T140000,20241
 119T130000/20241119T140000,20241121T130000/20241121T140000,20241126T130000
 /20241126T140000,20241205T130000/20241205T140000,20241210T130000/20241210T
 140000,20241212T130000/20241212T140000,20241219T130000/20241219T140000,202
 41226T130000/20241226T140000,20250102T130000/20250102T140000,20250107T1300
 00/20250107T140000,20250109T130000/20250109T140000,20250114T130000/2025011
 4T140000,20250116T130000/20250116T140000,20250121T130000/20250121T140000,2
 0250123T130000/20250123T140000,20250128T130000/20250128T140000,20250130T13
 0000/20250130T140000
URL:https://smcpl.org/events/mahjong-beginners-welcome/
LOCATION:St. Marys Community Public Library\, 140 S. Chestnut Street\, St. 
 Marys\, Ohio 45885
END:VEVENT
END:VCALENDAR