BEGIN:VCALENDAR
VERSION:2.0
PRODID:-//RIGHTHERE//CALENDARIZE IT V3.2//EN
BEGIN:VTIMEZONE
TZID:America/Detroit
BEGIN:STANDARD
DTSTART:20251102T060000
TZOFFSETFROM:-0400
TZOFFSETTO:-0500
TZNAME:EST
END:STANDARD
BEGIN:DAYLIGHT
DTSTART:20260308T070000
TZOFFSETFROM:-0500
TZOFFSETTO:-0400
TZNAME:EDT
END:DAYLIGHT
BEGIN:STANDARD
DTSTART:20261101T060000
TZOFFSETFROM:-0400
TZOFFSETTO:-0500
TZNAME:EST
END:STANDARD
END:VTIMEZONE
BEGIN:VEVENT
UID:4939-events@smcpl.org
DTSTART;VALUE=DATE:20240408
DTEND;VALUE=DATE:20240408
DTSTAMP;TZID=America/Detroit:20240328T161929
SUMMARY:CLOSED for Staff Training Day
EXDATE:20240408
RDATE;TZID=America/Detroit;VALUE=PERIOD:20240426T000000/20240426T000000
URL:https://smcpl.org/events/closed-for-staff-training-day/
END:VEVENT
END:VCALENDAR