BEGIN:VCALENDAR
VERSION:2.0
PRODID:-//RIGHTHERE//CALENDARIZE IT V3.2//EN
BEGIN:VTIMEZONE
TZID:America/Detroit
BEGIN:STANDARD
DTSTART:20251102T060000
TZOFFSETFROM:-0400
TZOFFSETTO:-0500
TZNAME:EST
END:STANDARD
BEGIN:DAYLIGHT
DTSTART:20260308T070000
TZOFFSETFROM:-0500
TZOFFSETTO:-0400
TZNAME:EDT
END:DAYLIGHT
BEGIN:STANDARD
DTSTART:20261101T060000
TZOFFSETFROM:-0400
TZOFFSETTO:-0500
TZNAME:EST
END:STANDARD
END:VTIMEZONE
BEGIN:VEVENT
UID:4946-events@smcpl.org
DTSTART;TZID=America/Detroit:20240513T100000
DTEND;TZID=America/Detroit:20240513T190000
DTSTAMP;TZID=America/Detroit:20240411T150344
SUMMARY:Gardner’s Week Long Swap and Share 2024
RDATE;TZID=America/Detroit;VALUE=PERIOD:20240514T100000/20240514T190000,202
 40515T100000/20240515T190000,20240516T100000/20240516T190000,20240517T1000
 00/20240517T170000,20240518T100000/20240518T170000
URL:https://smcpl.org/events/gardners-week-long-swap-and-share-2024/
LOCATION:St. Marys Community Public Library\, 140 S. Chestnut Street\, St. 
 Marys\, Ohio 45885
END:VEVENT
END:VCALENDAR