BEGIN:VCALENDAR
VERSION:2.0
PRODID:-//RIGHTHERE//CALENDARIZE IT V3.2//EN
BEGIN:VTIMEZONE
TZID:America/Detroit
BEGIN:STANDARD
DTSTART:20251102T060000
TZOFFSETFROM:-0400
TZOFFSETTO:-0500
TZNAME:EST
END:STANDARD
BEGIN:DAYLIGHT
DTSTART:20260308T070000
TZOFFSETFROM:-0500
TZOFFSETTO:-0400
TZNAME:EDT
END:DAYLIGHT
BEGIN:STANDARD
DTSTART:20261101T060000
TZOFFSETFROM:-0400
TZOFFSETTO:-0500
TZNAME:EST
END:STANDARD
END:VTIMEZONE
BEGIN:VEVENT
UID:4954-events@smcpl.org
DTSTART;TZID=America/Detroit:20240516T103000
DTEND;TZID=America/Detroit:20240516T110000
DTSTAMP;TZID=America/Detroit:20240502T164850
SUMMARY:Blooming Babies a Musical Story Time
RDATE;TZID=America/Detroit;VALUE=PERIOD:20240620T103000/20240620T110000,202
 40718T103000/20240718T110000,20240815T103000/20240815T110000,20240919T1030
 00/20240919T110000,20241017T101500/20241017T110000,20241121T101500/2024112
 1T104500,20241219T101500/20241219T104500,20250116T101500/20250116T104500,2
 0250220T103000/20250220T110000,20250320T103000/20250320T110000
URL:https://smcpl.org/events/blooming-babies-a-musical-story-time/
LOCATION:St. Marys Community Public Library\, 140 S. Chestnut Street\, St. 
 Marys\, Ohio 45885
END:VEVENT
END:VCALENDAR