BEGIN:VCALENDAR
VERSION:2.0
PRODID:-//RIGHTHERE//CALENDARIZE IT V3.2//EN
BEGIN:VTIMEZONE
TZID:America/Detroit
BEGIN:STANDARD
DTSTART:20251102T060000
TZOFFSETFROM:-0400
TZOFFSETTO:-0500
TZNAME:EST
END:STANDARD
BEGIN:DAYLIGHT
DTSTART:20260308T070000
TZOFFSETFROM:-0500
TZOFFSETTO:-0400
TZNAME:EDT
END:DAYLIGHT
BEGIN:STANDARD
DTSTART:20261101T060000
TZOFFSETFROM:-0400
TZOFFSETTO:-0500
TZNAME:EST
END:STANDARD
END:VTIMEZONE
BEGIN:VEVENT
UID:4971-events@smcpl.org
DTSTART;TZID=America/Detroit:20240603T100000
DTEND;TZID=America/Detroit:20240603T190000
DTSTAMP;TZID=America/Detroit:20240510T155327
SUMMARY:Camping Scavenger Hunt
RDATE;TZID=America/Detroit;VALUE=PERIOD:20240604T100000/20240604T190000,202
 40605T100000/20240605T190000,20240606T100000/20240606T190000,20240607T1000
 00/20240607T170000,20240608T100000/20240608T170000,20240610T100000/2024061
 0T190000,20240611T100000/20240611T190000,20240612T100000/20240612T190000,2
 0240613T100000/20240613T190000,20240614T100000/20240614T170000,20240615T10
 0000/20240615T170000,20240617T100000/20240617T190000,20240618T100000/20240
 618T190000,20240620T100000/20240620T190000,20240621T100000/20240621T170000
 ,20240622T100000/20240622T170000,20240624T100000/20240624T190000
URL:https://smcpl.org/events/camping-scavenger-hunt/
LOCATION:St. Marys Community Public Library\, 140 S. Chestnut Street\, St. 
 Marys\, Ohio 45885
END:VEVENT
END:VCALENDAR