BEGIN:VCALENDAR
VERSION:2.0
PRODID:-//RIGHTHERE//CALENDARIZE IT V3.2//EN
BEGIN:VTIMEZONE
TZID:America/Detroit
BEGIN:STANDARD
DTSTART:20251102T060000
TZOFFSETFROM:-0400
TZOFFSETTO:-0500
TZNAME:EST
END:STANDARD
BEGIN:DAYLIGHT
DTSTART:20260308T070000
TZOFFSETFROM:-0500
TZOFFSETTO:-0400
TZNAME:EDT
END:DAYLIGHT
BEGIN:STANDARD
DTSTART:20261101T060000
TZOFFSETFROM:-0400
TZOFFSETTO:-0500
TZNAME:EST
END:STANDARD
END:VTIMEZONE
BEGIN:VEVENT
UID:5038-events@smcpl.org
DTSTART;TZID=America/Detroit:20240605T103000
DTEND;TZID=America/Detroit:20240605T110000
DTSTAMP;TZID=America/Detroit:20240510T160828
SUMMARY:Family Story Time
RDATE;TZID=America/Detroit;VALUE=PERIOD:20240612T103000/20240612T110000,202
 40626T103000/20240626T110000,20240703T103000/20240703T110000,20240710T1030
 00/20240710T110000
URL:https://smcpl.org/events/family-story-time/
LOCATION:St. Marys Community Public Library\, 140 S. Chestnut Street\, St. 
 Marys\, Ohio 45885
END:VEVENT
END:VCALENDAR