BEGIN:VCALENDAR
VERSION:2.0
PRODID:-//RIGHTHERE//CALENDARIZE IT V3.2//EN
BEGIN:VTIMEZONE
TZID:America/Detroit
BEGIN:STANDARD
DTSTART:20251102T060000
TZOFFSETFROM:-0400
TZOFFSETTO:-0500
TZNAME:EST
END:STANDARD
BEGIN:DAYLIGHT
DTSTART:20260308T070000
TZOFFSETFROM:-0500
TZOFFSETTO:-0400
TZNAME:EDT
END:DAYLIGHT
BEGIN:STANDARD
DTSTART:20261101T060000
TZOFFSETFROM:-0400
TZOFFSETTO:-0500
TZNAME:EST
END:STANDARD
END:VTIMEZONE
BEGIN:VEVENT
UID:5060-events@smcpl.org
DTSTART;TZID=America/Detroit:20240610T163000
DTEND;TZID=America/Detroit:20240610T180000
DTSTAMP;TZID=America/Detroit:20240511T120957
SUMMARY:Crafternoons Children’s Crafts
RDATE;TZID=America/Detroit;VALUE=PERIOD:20240617T163000/20240617T180000,202
 40624T163000/20240624T180000
URL:https://smcpl.org/events/crafternoons-childrens-crafts/
LOCATION:St. Marys Community Public Library\, 140 S. Chestnut Street\, St. 
 Marys\, Ohio 45885
END:VEVENT
END:VCALENDAR