BEGIN:VCALENDAR
VERSION:2.0
PRODID:-//RIGHTHERE//CALENDARIZE IT V3.2//EN
BEGIN:VTIMEZONE
TZID:America/Detroit
BEGIN:STANDARD
DTSTART:20251102T060000
TZOFFSETFROM:-0400
TZOFFSETTO:-0500
TZNAME:EST
END:STANDARD
BEGIN:DAYLIGHT
DTSTART:20260308T070000
TZOFFSETFROM:-0500
TZOFFSETTO:-0400
TZNAME:EDT
END:DAYLIGHT
BEGIN:STANDARD
DTSTART:20261101T060000
TZOFFSETFROM:-0400
TZOFFSETTO:-0500
TZNAME:EST
END:STANDARD
END:VTIMEZONE
BEGIN:VEVENT
UID:5071-events@smcpl.org
DTSTART;TZID=America/Detroit:20240605T180000
DTEND;TZID=America/Detroit:20240605T190000
DTSTAMP;TZID=America/Detroit:20240511T124558
SUMMARY:SMCPL Writing for Teens
RDATE;TZID=America/Detroit;VALUE=PERIOD:20240612T180000/20240612T190000,202
 40626T180000/20240626T190000,20240703T180000/20240703T190000,20240710T1800
 00/20240710T190000,20240717T180000/20240717T190000,20240724T180000/2024072
 4T190000,20240731T180000/20240731T190000
URL:https://smcpl.org/events/sdmcpl-writing-for-teens-june-july-2024/
LOCATION:St. Marys Community Public Library\, 140 S. Chestnut Street\, St. 
 Marys\, Ohio 45885
END:VEVENT
END:VCALENDAR