BEGIN:VCALENDAR
VERSION:2.0
PRODID:-//RIGHTHERE//CALENDARIZE IT V3.2//EN
BEGIN:VTIMEZONE
TZID:America/Detroit
BEGIN:STANDARD
DTSTART:20251102T060000
TZOFFSETFROM:-0400
TZOFFSETTO:-0500
TZNAME:EST
END:STANDARD
BEGIN:DAYLIGHT
DTSTART:20260308T070000
TZOFFSETFROM:-0500
TZOFFSETTO:-0400
TZNAME:EDT
END:DAYLIGHT
BEGIN:STANDARD
DTSTART:20261101T060000
TZOFFSETFROM:-0400
TZOFFSETTO:-0500
TZNAME:EST
END:STANDARD
END:VTIMEZONE
BEGIN:VEVENT
UID:5074-events@smcpl.org
DTSTART;TZID=America/Detroit:20230613T160000
DTEND;TZID=America/Detroit:20230613T180000
DTSTAMP;TZID=America/Detroit:20240511T133838
SUMMARY:Chamber Connections Mini Business Expo – FREE for All Ages
EXDATE:20230613T200000Z
RDATE;TZID=America/Detroit;VALUE=PERIOD:20240611T160000/20240611T180000
URL:https://smcpl.org/events/business-after-hours-june-2024/
LOCATION:St. Marys Community Public Library\, 140 S. Chestnut Street\, St. 
 Marys\, Ohio 45885
END:VEVENT
END:VCALENDAR