BEGIN:VCALENDAR
VERSION:2.0
PRODID:-//RIGHTHERE//CALENDARIZE IT V3.2//EN
BEGIN:VTIMEZONE
TZID:America/Detroit
BEGIN:STANDARD
DTSTART:20251102T060000
TZOFFSETFROM:-0400
TZOFFSETTO:-0500
TZNAME:EST
END:STANDARD
BEGIN:DAYLIGHT
DTSTART:20260308T070000
TZOFFSETFROM:-0500
TZOFFSETTO:-0400
TZNAME:EDT
END:DAYLIGHT
BEGIN:STANDARD
DTSTART:20261101T060000
TZOFFSETFROM:-0400
TZOFFSETTO:-0500
TZNAME:EST
END:STANDARD
END:VTIMEZONE
BEGIN:VEVENT
UID:5149-events@smcpl.org
DTSTART;VALUE=DATE:20240701
DTEND;VALUE=DATE:20240701
DTSTAMP;TZID=America/Detroit:20240610T114018
SUMMARY:Children’s Take-it and Make-it Craft
RDATE;TZID=America/Detroit;VALUE=PERIOD:20240702T000000/20240702T000000,202
 40703T000000/20240703T000000,20240705T000000/20240705T000000,20240706T0000
 00/20240706T000000
URL:https://smcpl.org/events/childrens-take-it-and-make-it-craft/
END:VEVENT
END:VCALENDAR