BEGIN:VCALENDAR
VERSION:2.0
PRODID:-//RIGHTHERE//CALENDARIZE IT V3.2//EN
BEGIN:VTIMEZONE
TZID:America/Detroit
BEGIN:STANDARD
DTSTART:20251102T060000
TZOFFSETFROM:-0400
TZOFFSETTO:-0500
TZNAME:EST
END:STANDARD
BEGIN:DAYLIGHT
DTSTART:20260308T070000
TZOFFSETFROM:-0500
TZOFFSETTO:-0400
TZNAME:EDT
END:DAYLIGHT
BEGIN:STANDARD
DTSTART:20261101T060000
TZOFFSETFROM:-0400
TZOFFSETTO:-0500
TZNAME:EST
END:STANDARD
END:VTIMEZONE
BEGIN:VEVENT
UID:5193-events@smcpl.org
DTSTART;VALUE=DATE:20240701
DTEND;VALUE=DATE:20240701
DTSTAMP;TZID=America/Detroit:20240702T183334
SUMMARY:National Parks Bingo
RDATE;TZID=America/Detroit;VALUE=PERIOD:20240702T000000/20240702T000000,202
 40703T000000/20240703T000000,20240705T000000/20240705T000000,20240706T0000
 00/20240706T000000,20240708T000000/20240708T000000,20240709T000000/2024070
 9T000000,20240710T000000/20240710T000000,20240711T000000/20240711T000000,2
 0240712T000000/20240712T000000,20240713T000000/20240713T000000,20240715T00
 0000/20240715T000000,20240716T000000/20240716T000000,20240717T000000/20240
 717T000000,20240718T000000/20240718T000000,20240719T000000/20240719T000000
 ,20240720T000000/20240720T000000,20240722T000000/20240722T000000
URL:https://smcpl.org/events/national-parks-bingo/
LOCATION:St. Marys Community Public Library\, 140 S. Chestnut Street\, St. 
 Marys\, Ohio 45885
END:VEVENT
END:VCALENDAR