BEGIN:VCALENDAR
VERSION:2.0
PRODID:-//RIGHTHERE//CALENDARIZE IT V3.2//EN
BEGIN:VTIMEZONE
TZID:America/Detroit
BEGIN:STANDARD
DTSTART:20251102T060000
TZOFFSETFROM:-0400
TZOFFSETTO:-0500
TZNAME:EST
END:STANDARD
BEGIN:DAYLIGHT
DTSTART:20260308T070000
TZOFFSETFROM:-0500
TZOFFSETTO:-0400
TZNAME:EDT
END:DAYLIGHT
BEGIN:STANDARD
DTSTART:20261101T060000
TZOFFSETFROM:-0400
TZOFFSETTO:-0500
TZNAME:EST
END:STANDARD
END:VTIMEZONE
BEGIN:VEVENT
UID:5290-events@smcpl.org
DTSTART;TZID=America/Detroit:20240814T180000
DTEND;TZID=America/Detroit:20240814T190000
DTSTAMP;TZID=America/Detroit:20240810T151015
SUMMARY:SMCPL Teen Writing
RDATE;TZID=America/Detroit;VALUE=PERIOD:20240821T180000/20240821T190000,202
 40828T180000/20240828T190000,20240904T180000/20240904T190000,20240911T1800
 00/20240911T190000,20240918T180000/20240918T190000,20240925T180000/2024092
 5T190000
URL:https://smcpl.org/events/smcpl-teen-writing/
END:VEVENT
END:VCALENDAR