BEGIN:VCALENDAR
VERSION:2.0
PRODID:-//RIGHTHERE//CALENDARIZE IT V3.2//EN
BEGIN:VTIMEZONE
TZID:America/Detroit
BEGIN:STANDARD
DTSTART:20251102T060000
TZOFFSETFROM:-0400
TZOFFSETTO:-0500
TZNAME:EST
END:STANDARD
BEGIN:DAYLIGHT
DTSTART:20260308T070000
TZOFFSETFROM:-0500
TZOFFSETTO:-0400
TZNAME:EDT
END:DAYLIGHT
BEGIN:STANDARD
DTSTART:20261101T060000
TZOFFSETFROM:-0400
TZOFFSETTO:-0500
TZNAME:EST
END:STANDARD
END:VTIMEZONE
BEGIN:VEVENT
UID:5298-events@smcpl.org
DTSTART;TZID=America/Detroit:20240826T170000
DTEND;TZID=America/Detroit:20240826T200000
DTSTAMP;TZID=America/Detroit:20240810T161257
SUMMARY:Quilting Class
RDATE;TZID=America/Detroit;VALUE=PERIOD:20240909T170000/20240909T200000,202
 41021T170000/20241021T200000,20241104T170000/20241104T200000
URL:https://smcpl.org/events/quilting-class-2/
LOCATION:St. Marys Community Public Library\, 140 S. Chestnut Street\, St. 
 Marys\, Ohio 45885
END:VEVENT
END:VCALENDAR