BEGIN:VCALENDAR
VERSION:2.0
PRODID:-//RIGHTHERE//CALENDARIZE IT V3.2//EN
BEGIN:VTIMEZONE
TZID:America/Detroit
BEGIN:STANDARD
DTSTART:20251102T060000
TZOFFSETFROM:-0400
TZOFFSETTO:-0500
TZNAME:EST
END:STANDARD
BEGIN:DAYLIGHT
DTSTART:20260308T070000
TZOFFSETFROM:-0500
TZOFFSETTO:-0400
TZNAME:EDT
END:DAYLIGHT
BEGIN:STANDARD
DTSTART:20261101T060000
TZOFFSETFROM:-0400
TZOFFSETTO:-0500
TZNAME:EST
END:STANDARD
END:VTIMEZONE
BEGIN:VEVENT
UID:5326-events@smcpl.org
DTSTART;TZID=America/Detroit:20240916T100000
DTEND;TZID=America/Detroit:20240916T190000
DTSTAMP;TZID=America/Detroit:20240903T135843
SUMMARY:Drop off Craft Items
RDATE;TZID=America/Detroit;VALUE=PERIOD:20240917T100000/20240917T190000,202
 40918T100000/20240918T190000,20240919T100000/20240919T190000,20240920T1000
 00/20240920T170000
URL:https://smcpl.org/events/drop-off-craft-items/
LOCATION:St. Marys Community Public Library\, 140 S. Chestnut Street\, St. 
 Marys\, Ohio 45885
END:VEVENT
END:VCALENDAR